BEGIN:VCALENDAR
VERSION:2.0
PRODID:-//Jahson The Scientist - ECPv6.15.20//NONSGML v1.0//EN
CALSCALE:GREGORIAN
METHOD:PUBLISH
X-ORIGINAL-URL:https://jahsonthescientist.com
X-WR-CALDESC:Events for Jahson The Scientist
REFRESH-INTERVAL;VALUE=DURATION:PT1H
X-Robots-Tag:noindex
X-PUBLISHED-TTL:PT1H
BEGIN:VTIMEZONE
TZID:Europe/London
BEGIN:DAYLIGHT
TZOFFSETFROM:+0000
TZOFFSETTO:+0100
TZNAME:BST
DTSTART:20210328T010000
END:DAYLIGHT
BEGIN:STANDARD
TZOFFSETFROM:+0100
TZOFFSETTO:+0000
TZNAME:GMT
DTSTART:20211031T010000
END:STANDARD
BEGIN:DAYLIGHT
TZOFFSETFROM:+0000
TZOFFSETTO:+0100
TZNAME:BST
DTSTART:20220327T010000
END:DAYLIGHT
BEGIN:STANDARD
TZOFFSETFROM:+0100
TZOFFSETTO:+0000
TZNAME:GMT
DTSTART:20221030T010000
END:STANDARD
BEGIN:DAYLIGHT
TZOFFSETFROM:+0000
TZOFFSETTO:+0100
TZNAME:BST
DTSTART:20230326T010000
END:DAYLIGHT
BEGIN:STANDARD
TZOFFSETFROM:+0100
TZOFFSETTO:+0000
TZNAME:GMT
DTSTART:20231029T010000
END:STANDARD
BEGIN:DAYLIGHT
TZOFFSETFROM:+0000
TZOFFSETTO:+0100
TZNAME:BST
DTSTART:20240331T010000
END:DAYLIGHT
BEGIN:STANDARD
TZOFFSETFROM:+0100
TZOFFSETTO:+0000
TZNAME:GMT
DTSTART:20241027T010000
END:STANDARD
BEGIN:DAYLIGHT
TZOFFSETFROM:+0000
TZOFFSETTO:+0100
TZNAME:BST
DTSTART:20250330T010000
END:DAYLIGHT
BEGIN:STANDARD
TZOFFSETFROM:+0100
TZOFFSETTO:+0000
TZNAME:GMT
DTSTART:20251026T010000
END:STANDARD
BEGIN:DAYLIGHT
TZOFFSETFROM:+0000
TZOFFSETTO:+0100
TZNAME:BST
DTSTART:20260329T010000
END:DAYLIGHT
BEGIN:STANDARD
TZOFFSETFROM:+0100
TZOFFSETTO:+0000
TZNAME:GMT
DTSTART:20261025T010000
END:STANDARD
END:VTIMEZONE
BEGIN:VEVENT
DTSTART;TZID=Europe/London:20250809T224500
DTEND;TZID=Europe/London:20250809T234500
DTSTAMP:20260419T150400
CREATED:20250417T211921Z
LAST-MODIFIED:20250901T155258Z
UID:3520-1754779500-1754783100@jahsonthescientist.com
SUMMARY:Sketches on Duality - Hin und Weg Festival
DESCRIPTION:Musikalisch gemütlich gemacht haben es sich Sketches On Duality zwischen den Stühlen Hip Hop und Jazz. Eine auf den ersten Blick nicht mehr unbedingt so seltene Kombination\, doch im Falle dieser im Jahr 2016 gegründeten Wiener Band erfährt sie dann doch eine etwas andere Ausrichtung\, als man es vielleicht anfangs vermutet. Das liegt vor allem daran\, dass Jahson The Scientist (Vocals)\, Heli Mühlbacher (Gitarre)\, Felipe Scolfaro Crema (Keys)\, David Dolliner (Bass) und Michael Prowaznik (Schlagzeug) – die fünf Köpfe hinter dem Bandprojekt – sich mit erfrischender Experimentierfreude der ganzen Sache annähern. Versetzt mit einer Prise Funk\, ein wenig Fusion und viel Soul lassen Sketches On Duality einen eigenständigen Sound entstehen\, über den sich poetische Spoken Word Texte und flowiger Rap abwechseln. \nIn den Texten geht es der Band um Liebe\, ums Menschsein\, um den Versuch\, das Leben mit wissenschaftlichen Theorien und Erkenntnissen zu erklären – um schlussendlich doch wieder feststellen zu müssen\, dass einzig das Herz die richtigen Entscheidungen treffen kann. Angesiedelt an der Grenze von Lebens- und Tanzlust verbindet das Ensemble ausgedehnte Instrumental-Soli mit (lebens-)notwendigen Grooves.
URL:https://jahsonthescientist.com/event/sketches-on-duality-hinundweg/
CATEGORIES:Coming Up,Music event
ATTACH;FMTTYPE=image/jpeg:https://jahsonthescientist.com/wp-content/uploads/2025/04/Sketches-On-Duality-21-1-band-pic.jpg
END:VEVENT
BEGIN:VEVENT
DTSTART;TZID=Europe/London:20250802T150000
DTEND;TZID=Europe/London:20250802T230000
DTSTAMP:20260419T150400
CREATED:20250801T125928Z
LAST-MODIFIED:20250801T125928Z
UID:3702-1754146800-1754175600@jahsonthescientist.com
SUMMARY:VIBES FROM ABOVE & BEYOND
DESCRIPTION:Vibes From Above & Beyond\nA rooftop summer show VIBES FROM ABOVE & BEYOND\, showcasing a host of artists with Djs and food for a family friendly summer vibe: \n\nLive Music\, Djs\, Food\nJo & Joe’s\, Europaplatz 1/6\, Vienna\nSaturday 2nd August\, 3pm – 11pm
URL:https://jahsonthescientist.com/event/vibes-from-above-beyond/
LOCATION:JO & JOE\, Europaplatz 1/6\, Vienna\, 1150 IKEA building\, take the two elevators on the right to the 5th floor\, Austria
CATEGORIES:Coming Up,Music event
ATTACH;FMTTYPE=image/png:https://jahsonthescientist.com/wp-content/uploads/2025/08/Vibes-from-Above-Beyond-update-3.png
END:VEVENT
BEGIN:VEVENT
DTSTART;VALUE=DATE:20250701
DTEND;VALUE=DATE:20250702
DTSTAMP:20260419T150400
CREATED:20250623T202712Z
LAST-MODIFIED:20250628T131854Z
UID:3644-1751328000-1751414399@jahsonthescientist.com
SUMMARY:Südtirol Jazzfestival: Andi Tausch PULS feat. Jahson the Scientist
DESCRIPTION:Andi Tausch PULS feat. Jahson the Scientist \nEine aufregende und innovative musikalische Reise im Spannungsfeld zwischen Hip-Hop\, Jazz und Improvisation: In diesem Bandprojekt stützt sich der Tiroler Gitarrist Andreas Tausch mit seinem rhythmisch mitreißenden Impro-Jazz auf Beats\, die er mit dem Hip-Hop-Produzenten MezBeats entwickelt hat. Das Trio ergänzt der im Hip-Hop verankerte Künstler Jahson the Scientist. \nArtists \nJahson the Scientist (UK) – voc\nAndreas Tausch (AT) – guit\nPeter Schönbauer (AT) – b\nAndreas Lettner (AT) – dr
URL:https://jahsonthescientist.com/event/sudtirol-jazzfestival-andi-tausch-puls-feat-jahson-the-scientist/
CATEGORIES:Coming Up,Music event
ATTACH;FMTTYPE=image/jpeg:https://jahsonthescientist.com/wp-content/uploads/2025/06/Scattah.jpg
END:VEVENT
BEGIN:VEVENT
DTSTART;TZID=Europe/London:20250620T190000
DTEND;TZID=Europe/London:20250620T200000
DTSTAMP:20260419T150400
CREATED:20250417T213514Z
LAST-MODIFIED:20250614T202037Z
UID:3527-1750446000-1750449600@jahsonthescientist.com
SUMMARY:Sketches On Duality - Teichklang
DESCRIPTION:Man vermenge Hip Hop\, Spoken Word und Jazz und gieße das Ganze mit einem Schuss Soul auf.Gegründet 2016\, etabliert die Band bereits mit ihren ersten Auftritten in Wien eine Fanbase in der Wiener Hip Hop & Jazz Szene. Nach Veröffentlichung ihrer Debut EP auf Kassette im Sommer 2017\, folgt eine Release Tour in Österreich & Deutschland. Im selben Jahr wird die Gruppe von GoTV zum „Act of Summer 2017“ gekürt. Seitdem Teilnahme an vielen nationalen und internationalen FestivalsDer nächste Release der Band erscheint im Frühjahr 2025. \n  \nSchlosspark Wolkersdorf\, Schlossplatz\, 2120 Wolkersdorf im Weinviertel
URL:https://jahsonthescientist.com/event/sketches-on-duality-teichklang/
CATEGORIES:Coming Up,Music event
ATTACH;FMTTYPE=image/jpeg:https://jahsonthescientist.com/wp-content/uploads/2025/04/Sketches-On-Duality-21-1-band-pic.jpg
END:VEVENT
BEGIN:VEVENT
DTSTART;TZID=Europe/London:20250510T120000
DTEND;TZID=Europe/London:20250510T170000
DTSTAMP:20260419T150400
CREATED:20250408T020727Z
LAST-MODIFIED:20250409T045116Z
UID:3425-1746878400-1746896400@jahsonthescientist.com
SUMMARY:Science Workshop - Innsbruck
DESCRIPTION:
URL:https://jahsonthescientist.com/event/science-workshop-innsbruck/
CATEGORIES:Coming Up,Science events
ATTACH;FMTTYPE=image/jpeg:https://jahsonthescientist.com/wp-content/uploads/2025/04/Science-workshop-home.jpg
END:VEVENT
BEGIN:VEVENT
DTSTART;TZID=Europe/London:20250502T150000
DTEND;TZID=Europe/London:20250502T190000
DTSTAMP:20260419T150400
CREATED:20250417T214958Z
LAST-MODIFIED:20250417T214958Z
UID:3529-1746198000-1746212400@jahsonthescientist.com
SUMMARY:Keynote Speaker at Holistic Networking Experience
DESCRIPTION:The Holistic Networking Experience\nBusiness & Science  \nWas passiert\, wenn du dein Business auf Frequenz bringst? \nIn einer Welt\, die immer schneller wird\, braucht es Räume\, die entschleunigen – und gleichzeitig tiefer wirken. The Holistic Networking Experience ist so ein Raum. Eine neue Form des Networkings – bewusst\, interaktiv und interdisziplinär. \nKeine klassische Business-Veranstaltung. Kein oberflächlicher Austausch. Sondern ein kuratiertes Event mit wechselnden Themenschwerpunkten in einer besonderen Villa am Rande von Wien – für Unternehmer:innen\, Selbstständige und Führungskräfte\, die mehr wollen als Tools und KPIs. \nHier treffen inspirierende Persönlichkeiten aufeinander. \nUnd du bist mittendrin. \nThemenschwerpunkt diesmal: \nBusiness & Science – mit Jahson the Scientist\nDer international tätige Wissenschaftsvermittler\, Musiker und Gamma-Breath-Coach Jahson the Scientist zeigt\, wie aktuelle neue Erkenntnisse aus der Quantenforschung nicht nur unser Weltbild\, sondern auch unseren Business-Alltag verändern können. \nWissenschaft trifft auf Intuition – mit dem Ziel\, Unternehmen aus einem inneren Alignment heraus zu führen. Es geht um Fokus\, innere Ausrichtung und eine neue Klarheit: \nWie integrierst du deine persönlichen und geschäftlichen Ziele so\, dass sie sich nicht mehr widersprechen\, sondern gegenseitig beflügeln? \nWelche Rolle spielt Energie – und was bedeutet Fülle im Business-Kontext wirklich? \nDer Impuls-Vortrag ist nicht das Ende\, sondern der Anfang eines Abends voller Perspektivwechsel. \nModeriert von Florian Brody – Florian Brody ist ein Pionier der digitalen Innovation und Strategie-Mentor für Start-ups im Silicon Valley.
URL:https://jahsonthescientist.com/event/keynote-speaker-at-holistic-networking-experience/
CATEGORIES:Coming Up,Science events
ATTACH;FMTTYPE=image/jpeg:https://jahsonthescientist.com/wp-content/uploads/2025/04/Hoistic-Networking-Event.jpg
END:VEVENT
BEGIN:VEVENT
DTSTART;TZID=Europe/London:20250426T120000
DTEND;TZID=Europe/London:20250426T170000
DTSTAMP:20260419T150400
CREATED:20250408T015214Z
LAST-MODIFIED:20250408T021200Z
UID:3423-1745668800-1745686800@jahsonthescientist.com
SUMMARY:Science Workshop - Vienna
DESCRIPTION:
URL:https://jahsonthescientist.com/event/science-workshop/
CATEGORIES:Coming Up,Science events
ATTACH;FMTTYPE=image/jpeg:https://jahsonthescientist.com/wp-content/uploads/2025/04/Science-workshop-hiddenfigures.jpg
END:VEVENT
BEGIN:VEVENT
DTSTART;TZID=Europe/London:20250424T203000
DTEND;TZID=Europe/London:20250424T223000
DTSTAMP:20260419T150400
CREATED:20250324T193539Z
LAST-MODIFIED:20250417T151435Z
UID:3414-1745526600-1745533800@jahsonthescientist.com
SUMMARY:'Inner Heights' Album Release Show
DESCRIPTION:Inner Heights is the first solo album of Jahson The Scientist and as the title suggests is about tapping into our inner realities that exist beyond what we see. Inspired by the quantum world\, David Bohm’s “implicate order” and an understanding that intangible things affect physical reality. These concepts are woven in the wordplay and lyrics of this hip hop album with UK influences and afro-rhythms. \nScience and technology has allowed us to access more information in the palm of our hand than a library can be filled with books. However\, we are becoming so externally focused and are losing our own internal sat-nav and AI friendship has turned up as a solution to our decreasing social interaction. \n“Inner Heights” is an empowering rebellion to this\, it embraces the chaos of life and urges us to claim our sovereignty by embracing our individual worlds\, our differences and celebrating that when we interact to form society. \nThe album brings a spotlight on themes like boundary setting on “Dutty Water\, Plush Vessel”\, forgiveness on “4-Giving” and self worth “Hybreed”\, featuring vocals from Paulo Luemba and production from Simon Öggl\, Silly Crystal\, Harry Dean Lewis\, Slugz and Mez. On the chorus of “Inner Heights” Paulo Luemba calls us to to embrace our centre and Jahson asks us to trust our path\nand timing “in the right time\, with no force\, it happens”. “Lean on you” is asking us to trust the unseen source of life “Who’s bigger than “Jah”. \n“Inner Heights” is a journey of an Afro-Caribbean Londoner living in Austria. Jahson has collaborated with Austrian and International artists both as a front man on projects like “Scattah Brain” and “Sketches on Duality” and collaboration with acts like Soia\, Yasmo\, Flip (from Texta)\, Spitting Ibex\, SK Invitational\, Holunder (Blumentopf)\, Daru Jones (Jack White & The Ruff Pack
URL:https://jahsonthescientist.com/event/inner-heights-album-release-show/
LOCATION:Porgy & Bess\, Riemergasse 11\, Vienna\, Vienna\, 1010\, Austria
CATEGORIES:Coming Up,Music event
ATTACH;FMTTYPE=image/jpeg:https://jahsonthescientist.com/wp-content/uploads/2024/03/YouTube-Thumbnail-002.jpg
END:VEVENT
BEGIN:VEVENT
DTSTART;TZID=Europe/London:20250413T200000
DTEND;TZID=Europe/London:20250413T233000
DTSTAMP:20260419T150400
CREATED:20250408T014536Z
LAST-MODIFIED:20250409T054227Z
UID:3420-1744574400-1744587000@jahsonthescientist.com
SUMMARY:Stick A Sunday + Jam Session
DESCRIPTION:Stick A Bush featuring Jahson The Scientist\nist eine Offbeat/Dub/Dance Formation\, die sich Anfang 2019 in Wien gegründet hat. Die Leidenschaft zur jamaikanischen Musik sowie die Affinität zu anderen Musikrichtungen wie z.B. HipHop und Jazz hat uns zusammengeführt und unseren eigenen Sound kreieren lassen. Den wir bei der neuen Veranstaltungsreihe Stick A Sunday monatlich präsentieren werden!
URL:https://jahsonthescientist.com/event/stick-a-sunday-jam-session/
LOCATION:Loop\, Loop Bar U-Bahn Bogen 26/27\, Vienna\, Vienna\, 1080\, Austria
CATEGORIES:Coming Up,Music event
ATTACH;FMTTYPE=image/jpeg:https://jahsonthescientist.com/wp-content/uploads/2025/04/Stickabush.jpg
END:VEVENT
BEGIN:VEVENT
DTSTART;TZID=Europe/London:20250408T180000
DTEND;TZID=Europe/London:20250408T180000
DTSTAMP:20260419T150400
CREATED:20250408T014057Z
LAST-MODIFIED:20250409T043026Z
UID:3417-1744135200-1744135200@jahsonthescientist.com
SUMMARY:Pillow Night with Dunkelbunt
DESCRIPTION:Join us at the 25hours Hotel at MuseumsQuartier for a night of live acts together with DUNKELBUNT and FLIRTMACHINE live\, killer food\, insane drinks and only the best from our top partners and collaborators. Anna Ulrich will be on the turntables at pillow night.\nOh\, and did we mention the ultimate pillow fight?
URL:https://jahsonthescientist.com/event/pillow-night-with-dunkelbunt/
LOCATION:25 Hours hotel\, 25hours Hotel MuseumsQuartier Lerchenfelder Straße 1-3\, Vienna\, Vienna\, 1070\, Austria
CATEGORIES:Coming Up,Music event
ATTACH;FMTTYPE=image/jpeg:https://jahsonthescientist.com/wp-content/uploads/2025/04/Dunkelbunt.jpg
END:VEVENT
BEGIN:VEVENT
DTSTART;TZID=Europe/London:20220501T181500
DTEND;TZID=Europe/London:20230501T193000
DTSTAMP:20260419T150400
CREATED:20220501T163537Z
LAST-MODIFIED:20230225T095758Z
UID:2283-1651428900-1682969400@jahsonthescientist.com
SUMMARY:Mai Fest am 7Stern Platz
DESCRIPTION:Live: Jahson the Scientist\, FRÄULEIN H²\, KID PEX\, Reinhart Sellner
URL:https://jahsonthescientist.com/event/mai-fest-am-7stern-platz/
LOCATION:Cafe 7Stern  Vienna\, Siebensterngasse 31\, Vienna\, Vienna\, 1070 Vienna\, Austria
CATEGORIES:Coming Up,Music event,Past Event,Science events
ATTACH;FMTTYPE=image/jpeg:https://jahsonthescientist.com/wp-content/uploads/2022/09/279088491_5213177598742703_7605169211480444707_n.jpg
END:VEVENT
END:VCALENDAR